BEGIN:VCALENDAR
VERSION:2.0
PRODID:icalendar-ruby
CALSCALE:GREGORIAN
METHOD:PUBLISH
BEGIN:VEVENT
DTSTAMP:20260425T104146Z
UID:439-2879789@onelifechurch.ca
DTSTART:20261021T190000Z
DTEND:20261021T200000Z
CLASS:PUBLIC
CREATED:20260425T042323
DESCRIPTION:Join us in praying for our church family on Wednesday afternoon
 s at 1:00 PM at the church!
LAST-MODIFIED:20260425T042323
LOCATION:One Life Church
SUMMARY:Wednesday Afternoon Prayer
URL;VALUE=URI:https://www.onelifechurch.ca/events/wednesday-afternoon-praye
 r/2026-10-21
ATTACH;FILENAME=Wednesday Prayer.png;FMTTYPE=image/png:https://dq5pwpg1q8ru
 0.cloudfront.net/2026/03/03/23/18/26/2d445a62-c11d-43df-a4ea-5f31dcc39dd2/
 Wednesday%20Prayer.png
END:VEVENT
END:VCALENDAR
