BEGIN:VCALENDAR
VERSION:2.0
PRODID:icalendar-ruby
CALSCALE:GREGORIAN
METHOD:PUBLISH
BEGIN:VEVENT
DTSTAMP:20260425T001224Z
UID:418-2876448@onelifechurch.ca
DTSTART:20261003T010000Z
DTEND:20261003T030000Z
CLASS:PUBLIC
CREATED:20260424T154512
DESCRIPTION:Are you between the ages of 17 and 24 and want to grow in your 
 God-given leadership gift?\nJoin Thrive Young Adults\, where we help teach
  and equip you to develop into the leader that God has called you to be! 
 \nWeekly teaching and discussions\, serving and leadership opportunities\,
  and a lot of team-building fun!\n Fridays from 7-9 PM. Contact 403 715 4
 086 for more information and location! 
LAST-MODIFIED:20260424T154512
LOCATION:One Life Church and The Flamand's
SUMMARY:Thrive Young Adults 
URL;VALUE=URI:https://www.onelifechurch.ca/events/thrive-young-adults/2026-
 10-02
ATTACH;FILENAME=Copy of OLC Thrive - Ages 18-30.png;FMTTYPE=image/png:https
 ://dq5pwpg1q8ru0.cloudfront.net/2025/09/11/18/48/14/5de91846-5280-434b-b18
 e-cf86c252d946/Copy%20of%20OLC%20Thrive%20-%20Ages%2018-30.png
END:VEVENT
END:VCALENDAR
