BEGIN:VCALENDAR
VERSION:2.0
PRODID:icalendar-ruby
CALSCALE:GREGORIAN
METHOD:PUBLISH
BEGIN:VEVENT
DTSTAMP:20260423T233432Z
UID:329-2866694@onelifechurch.ca
DTSTART:20260918T010000Z
DTEND:20260918T030000Z
CLASS:PUBLIC
CREATED:20260423T160438
DESCRIPTION:Welcome to ROOTED AND UNSTOPPABLE!\nThis is our connect group f
 or youth grades 6 - 12. \nOne Life Church and Third Day Church have joine
 d youth groups for an an unstoppable expereince with Bible study\, small g
 roups\, games\, activities\, and so much more!\nWe meet every Thursday nig
 ht 7:00 - 9:00 p.m.\nLocation:\nFebruary - One Life Church\nMarch - Third 
 Day Church\nApril - One Life Church\nMay - Third Day Church\nJune - One Li
 fe Church\n \nWe hope to see you there!
LAST-MODIFIED:20260423T160438
LOCATION:One Life Church & Third Day Church
SUMMARY:ROOTED & UNSTOPPABLE
URL;VALUE=URI:https://www.onelifechurch.ca/events/rooted-unstoppable/2026-0
 9-17
ATTACH;FILENAME=Copy of Rooted Youth Groups.png;FMTTYPE=image/png:https://d
 q5pwpg1q8ru0.cloudfront.net/2026/02/11/20/38/07/2293c7fe-592b-4751-8cc2-71
 0b1f9e562b/Copy%20of%20Rooted%20Youth%20Groups.png
END:VEVENT
END:VCALENDAR
