BEGIN:VCALENDAR
VERSION:2.0
PRODID:icalendar-ruby
CALSCALE:GREGORIAN
METHOD:PUBLISH
BEGIN:VEVENT
DTSTAMP:20260423T032330Z
UID:226-2858383@onelifechurch.ca
DTSTART:20260929T123000Z
DTEND:20260929T133000Z
CLASS:PUBLIC
CREATED:20260422T185542
DESCRIPTION:Learn something new every week while having fun digging into Go
 d's word!\nLed by Pastor Wayne Boersma. 
LAST-MODIFIED:20260422T185542
LOCATION:One Life Church
SUMMARY:Men's Connect Tuesdays
URL;VALUE=URI:https://www.onelifechurch.ca/events/mens-connect-tuesdays/202
 6-09-29
ATTACH;FILENAME=Summer Mens Connect (3).png;FMTTYPE=image/png:https://dq5pw
 pg1q8ru0.cloudfront.net/2024/08/29/16/44/24/41e98ef9-bbff-40df-ae91-a7e659
 93a1e2/Summer%20Mens%20Connect%20(3).png
END:VEVENT
END:VCALENDAR
