BEGIN:VCALENDAR
VERSION:2.0
PRODID:icalendar-ruby
CALSCALE:GREGORIAN
METHOD:PUBLISH
BEGIN:VEVENT
DTSTAMP:20260423T230519Z
UID:284-2866425@onelifechurch.ca
DTSTART:20260923T010000Z
DTEND:20260923T023000Z
CLASS:PUBLIC
CREATED:20260423T160436
DESCRIPTION:Join us for a powerful time of corporate prayer on Tuesdays at 
 7:00 pm!
LAST-MODIFIED:20260423T160436
LOCATION:One Life Church
SUMMARY:Experiencing God in Prayer
URL;VALUE=URI:https://www.onelifechurch.ca/events/experiencing-god-in-praye
 r/2026-09-22
ATTACH;FILENAME=Copy of Experiencing God in Prayer.png;FMTTYPE=image/png:ht
 tps://dq5pwpg1q8ru0.cloudfront.net/2025/12/22/23/10/23/2156558a-ddf8-4704-
 b9e1-517d46f110e6/Copy%20of%20Experiencing%20God%20in%20Prayer.png
END:VEVENT
END:VCALENDAR
